BEGIN:VCALENDAR
VERSION:2.0
PRODID:-//Bernie McGill - ECPv6.15.17//NONSGML v1.0//EN
CALSCALE:GREGORIAN
METHOD:PUBLISH
X-WR-CALNAME:Bernie McGill
X-ORIGINAL-URL:https://berniemcgill.com
X-WR-CALDESC:Events for Bernie McGill
REFRESH-INTERVAL;VALUE=DURATION:PT1H
X-Robots-Tag:noindex
X-PUBLISHED-TTL:PT1H
BEGIN:VTIMEZONE
TZID:Europe/Dublin
BEGIN:STANDARD
TZOFFSETFROM:+0000
TZOFFSETTO:+0100
TZNAME:IST
DTSTART:20230326T010000
END:STANDARD
BEGIN:DAYLIGHT
TZOFFSETFROM:+0100
TZOFFSETTO:+0000
TZNAME:GMT
DTSTART:20231029T010000
END:DAYLIGHT
BEGIN:STANDARD
TZOFFSETFROM:+0000
TZOFFSETTO:+0100
TZNAME:IST
DTSTART:20240331T010000
END:STANDARD
BEGIN:DAYLIGHT
TZOFFSETFROM:+0100
TZOFFSETTO:+0000
TZNAME:GMT
DTSTART:20241027T010000
END:DAYLIGHT
BEGIN:STANDARD
TZOFFSETFROM:+0000
TZOFFSETTO:+0100
TZNAME:IST
DTSTART:20250330T010000
END:STANDARD
BEGIN:DAYLIGHT
TZOFFSETFROM:+0100
TZOFFSETTO:+0000
TZNAME:GMT
DTSTART:20251026T010000
END:DAYLIGHT
BEGIN:STANDARD
TZOFFSETFROM:+0000
TZOFFSETTO:+0100
TZNAME:IST
DTSTART:20260329T010000
END:STANDARD
BEGIN:DAYLIGHT
TZOFFSETFROM:+0100
TZOFFSETTO:+0000
TZNAME:GMT
DTSTART:20261025T010000
END:DAYLIGHT
END:VTIMEZONE
BEGIN:VEVENT
DTSTART;TZID=Europe/Dublin:20240119T233000
DTEND;TZID=Europe/Dublin:20250119T233000
DTSTAMP:20260422T142805
CREATED:20240126T155634Z
LAST-MODIFIED:20240126T155634Z
UID:2660-1705707000-1737329400@berniemcgill.com
SUMMARY:This Train is For by Bernie McGill wins the 2023 Edge Hill Short Story Prize
DESCRIPTION:This year’s winner of the Edge Hill Short Story Prize  is Bernie McGill with her short story collection This Train is For\,  published by  No Alibis Press. \nNow in its 17th year\, The Edge Hill Prize is the only annual UK-based award to  recognise  excellence in a single-authored short story collection\, with a first prize of £10\,000. \nBernie McGill is the author of two novels\, The Butterfly Cabinet and The Watch House\, and two collections of short stories\, Sleepwalkers and the Edge Hill prize-winner This Train is For (No Alibis Press). \nThe judges for this year’s prize were the winner of last year’s award Saba Sams; Lucy Luck\, agent at C&W Agency\, and short story writer and Edge Hill creative writing lecturer Andrea Ashworth. \nThe winner received her award at a ceremony at the London Review Bookshop in Bloomsbury. She said: “It’s such an honour to have won the Edge Hill Prize. I’ve been reading the winning collections for years. I’m a huge fan of the short story\, as both a reader and as a writer. When working on the longer form gets challenging\, I sneak off for a philander with the short form. I love the intensity of it\, and I love the buzz of finishing one.” \nNaomi Booth was the winner of the £1\,000 Reader’s Choice Award for her collection Animals at Night (Dead Ink Books). \nWill Clark\, a student on the Edge Hill MA in Creative Writing\, won the prize for best short story submitted by a student. \nFive collections made the shortlist\, namely: \n\nTotal by Rebecca Miller (Canongate)\nLove in the Time of Chaos by Rosemary Jenkinson (Arlen House)\nCat Brushing & Other Stories by Jane Campbell (Riverrun)\nAnimals at Night by Naomi Booth (Dead Ink Books)\nThis Train is for… by Bernie McGill (No Alibis Press)\n\nFounded in 2006\, the Edge Hill Short Story Prize attracts entries from new and established writers. Professor of short fiction Ailsa Cox founded the award to highlight the “artisanship of short-story writing” and acknowledge the wealth of published collections available. \nPrevious winners of the award include Sarah Hall\, David Szalay\, Tessa Hadley and Kevin Barry. \n\n\n\n\nBernie McGill’s award-winning stories have been widely praised for their emotional depth and lyrical language. \nShe is a writer of profound sensitivity and observation whose masterful deployment of linguistic precision and economy enables her to plumb the depths of human experience while neatly avoiding sentimentalism. \nThis new collection\, the first since 2013\, contains unpublished stories along with a number of previously published stories contained within award winning anthologies. \nThis Train is For is available from No Alibis Books.
URL:https://berniemcgill.com/event/this-train-is-for-by-bernie-mcgill-wins-the-2023-edge-hill-short-story-prize/
ATTACH;FMTTYPE=image/jpeg:https://berniemcgill.com/wp-content/uploads/2024/01/IMG_9707-scaled-e1706112048439.jpeg
END:VEVENT
BEGIN:VEVENT
DTSTART;TZID=Europe/Dublin:20240809T183000
DTEND;TZID=Europe/Dublin:20240809T203000
DTSTAMP:20260422T142805
CREATED:20240628T174946Z
LAST-MODIFIED:20240628T175331Z
UID:2736-1723228200-1723235400@berniemcgill.com
SUMMARY:Scribes at the Duncairn: Bernie McGill\, Jan Carson & Paul McVeigh chaired by Marnie Kennedy
DESCRIPTION:Featuring Paul McVeigh\, Bernie McGill & Jan Carson at Duncairn Arts Centre\, Duncairn Avenue\, Belfast.  \nChaired by Marnie Kennedy\, Shared Reading facilitator. This event is hosted by Stories@theDuncairn\, a volunteer-led\, community literary project\, in partnership with the Greater New Lodge Community Festival and Féile an Phobail. Café at the Duncairn open for tea\, coffee and refreshments. Wine Reception. All welcome! \nDoors open at 6.30pm \n \nPaul McVeigh’s short stories have been in numerous anthologies including ‘Being Various’\, ‘The Art of the Glimpse’ and ‘Common People’. They have also been printed in ‘The London Magazine’\, ‘The Stinging Fly’ and ‘The Irish Times’\, on radio at BBC 3\, 4\, 5; RTE 1\, and Sky TV. His ten-part short story series\, ‘The Circus’\, appeared on BBC Radio 4 in 2023. Paul co-founded the London Short Story Festival and is associate director of Word Factory\, ‘the UK’s national organisation for excellence in the short story’ The Guardian.  Paul’s debut novel\, ‘The Good Son’\, won The McCrea Literary Award and The Polari First Novel Prize. His writing has been translated into seven languages. \n  \n \nBernie McGill is the 2023 winner of the prestigious Edge Hill Short Story Prize for her collection This Train is For (No Alibis Press). She is the author of two novels: The Watch House (nominated for the Ireland European Union Prize for Literature in 2019) and The Butterfly Cabinet (2010) and of one further short story collection\, Sleepwalkers (2013). Her work has appeared in a number of anthologies and has been broadcast on BBC Radio 3 and Radio 4. Bernie works as a Mentor for the Irish Writers’ Centre and is an Associate Fellow with the Royal Literary Fund. \n  \nJan Carson’s critically acclaimed writings explore themes related to identity\, place and belonging\, but also to angst and alienation\, in such works as The Fire Starters (winner EU Prize for Literature\, 2019) and The Raptures. She is also very funny! About her latest collection of short stories\, Quickly\, While They Still Have Horses\, the Irish Times said: ‘Long after the reader has closed the book\, these tales linger in the mind: vivid\, original and moving.’
URL:https://berniemcgill.com/event/scribes-at-the-duncairn/
LOCATION:Duncairn Cultural Arts Centre\, Duncairn Avenue\, Belfast\, BT14 6BP\, United Kingdom
END:VEVENT
END:VCALENDAR