BEGIN:VCALENDAR
VERSION:2.0
PRODID:-//Bernie McGill - ECPv6.15.17//NONSGML v1.0//EN
CALSCALE:GREGORIAN
METHOD:PUBLISH
X-ORIGINAL-URL:https://berniemcgill.com
X-WR-CALDESC:Events for Bernie McGill
REFRESH-INTERVAL;VALUE=DURATION:PT1H
X-Robots-Tag:noindex
X-PUBLISHED-TTL:PT1H
BEGIN:VTIMEZONE
TZID:Europe/Dublin
BEGIN:STANDARD
TZOFFSETFROM:+0000
TZOFFSETTO:+0100
TZNAME:IST
DTSTART:20230326T010000
END:STANDARD
BEGIN:DAYLIGHT
TZOFFSETFROM:+0100
TZOFFSETTO:+0000
TZNAME:GMT
DTSTART:20231029T010000
END:DAYLIGHT
BEGIN:STANDARD
TZOFFSETFROM:+0000
TZOFFSETTO:+0100
TZNAME:IST
DTSTART:20240331T010000
END:STANDARD
BEGIN:DAYLIGHT
TZOFFSETFROM:+0100
TZOFFSETTO:+0000
TZNAME:GMT
DTSTART:20241027T010000
END:DAYLIGHT
BEGIN:STANDARD
TZOFFSETFROM:+0000
TZOFFSETTO:+0100
TZNAME:IST
DTSTART:20250330T010000
END:STANDARD
BEGIN:DAYLIGHT
TZOFFSETFROM:+0100
TZOFFSETTO:+0000
TZNAME:GMT
DTSTART:20251026T010000
END:DAYLIGHT
END:VTIMEZONE
BEGIN:VEVENT
DTSTART;TZID=Europe/Dublin:20240722T144500
DTEND;TZID=Europe/Dublin:20240725T164500
DTSTAMP:20260422T115754
CREATED:20240621T171802Z
LAST-MODIFIED:20240621T171802Z
UID:2711-1721659500-1721925900@berniemcgill.com
SUMMARY:Short Story Writing with Bernie McGill at the John Hewitt International Summer School\, Armagh
DESCRIPTION:Join writer Bernie McGill in an investigation of the short story and the ways in which short story writers can make one thing seem to cause the next. This course will offer exercises\, prompts and discussion that will help you to develop and revise your work within a community of fellow writers. Come with an open mind\, prepared to write. \nThis course will take place during the John Hewitt International Summer School at the Market Place Theatre\, Armagh. Workshops are scheduled for Monday 22nd\, Tuesday 23rd and Thursday 25th July 2024 from 2.45 pm to 4.45 pm and cost £70 in total. Participants should attend all three sessions. All levels are welcome. Spaces are limited – advance booking is essential. \nTo book go to the Market Place Theatre. \nBernie McGill is the 2023 winner of the prestigious Edge Hill Prize for her short story collection This Train is For. Her first collection\, Sleepwalkers\, was shortlisted for the prize in 2014. She is the author of two novels (The Butterfly Cabinet (2010) & The Watch House (2017)) and is a Fellow of the Royal Literary Fund. \nFor the full programme of the John Hewitt International Summer School taking place from Monday 22nd to Saturday 27th July 2024\, including workshops\, readings\, panel discussions\, performances and art exhibitions visit The John Hewitt Society.
URL:https://berniemcgill.com/event/short-story-writing-with-bernie-mcgill-at-the-john-hewitt-international-summer-school-armagh/
LOCATION:Market Place Theatre\, Armagh\, Market Street\, Armagh\, Armagh\, BT61 7BW\, United Kingdom
END:VEVENT
END:VCALENDAR